BEGIN:VCALENDAR
VERSION:2.0
PRODID:-//ExpressionEngine Easy iCalendar plugin//NONSGML v2.0.0//EN
X-WR-TIMEZONE:America/Chicago
X-WR-CALNAME:Upcoming Auctions
BEGIN:VEVENT
UID:140520
DTSTAMP:20250522T141600
DTSTART:20250522T141600
DTEND:20250609T180000
SUMMARY:2025 June Auto & Consignment - Prairie Farm\, WI
LOCATION:{location}
DESCRIPTION:Online Only Auction Ends Monday\, June 9\, 2025 • 6:00PM A
 DJUSTED BUYER'S FEE
URL:https://www.hansenandyoung.com/auctions/detail/bw140520
SEQUENCE:1
END:VEVENT
END:VCALENDAR