BEGIN:VCALENDAR
VERSION:2.0
PRODID:-//ExpressionEngine Easy iCalendar plugin//NONSGML v2.0.1//EN
X-WR-TIMEZONE:America/Chicago
X-WR-CALNAME:Upcoming Auctions
BEGIN:VEVENT
UID:152286
DTSTAMP:20251114T120000
DTSTART:20251114T120000
DTEND:20251217T180000
SUMMARY:Tractors Farm Machinery & Hit Miss Engines - Northwood\, IA
LOCATION:{location}
DESCRIPTION:ADDRESS: Northwood\, IA Online Only Auction Ends Wednesday\, D
 ecember 17\, 2025 • 6:00PM 10% BUYER'S FEE
URL:https://www.hansenandyoung.com/auctions/detail/bw152286
SEQUENCE:1
END:VEVENT
END:VCALENDAR