BEGIN:VCALENDAR
VERSION:2.0
PRODID:-//ExpressionEngine Easy iCalendar plugin//NONSGML v2.0.1//EN
X-WR-TIMEZONE:America/Chicago
X-WR-CALNAME:Upcoming Auctions
BEGIN:VEVENT
UID:152482
DTSTAMP:20251119T000000
DTSTART:20251119T000000
DTEND:20251208T180000
SUMMARY:Ed Chaney Estate Auction - Spooner\, WI
LOCATION:{location}
DESCRIPTION:LOCATION: W5961 SPOONER LAKE ROAD - SPOONER\, WI Online Only
  Auction Ends Monday\, December 8\, 2025 • 6:00PM 10% BUYER
 'S FEE
URL:https://www.hansenandyoung.com/auctions/detail/bw152482
SEQUENCE:1
END:VEVENT
END:VCALENDAR