BEGIN:VCALENDAR
VERSION:2.0
PRODID:-//ExpressionEngine Easy iCalendar plugin//NONSGML v2.0.1//EN
X-WR-TIMEZONE:America/Chicago
X-WR-CALNAME:Upcoming Auctions
BEGIN:VEVENT
UID:154523
DTSTAMP:20260108T120000
DTSTART:20260108T120000
DTEND:20260119T180000
SUMMARY:2026 January 19th Container & Attachment Auction - Prairie F
 arm\, WI
LOCATION:{location}
DESCRIPTION:Online Only Auction Ends Monday\, January 19\, 2026 • 6:00P
 M 10% BUYER'S FEE ADDRESS: 1264 5th Ave\, Prairie Farm\, WI 5
 4762
URL:https://www.hansenandyoung.com/auctions/detail/bw154523
SEQUENCE:1
END:VEVENT
END:VCALENDAR