BEGIN:VCALENDAR
VERSION:2.0
PRODID:-//ExpressionEngine Easy iCalendar plugin//NONSGML v2.0.1//EN
X-WR-TIMEZONE:America/Chicago
X-WR-CALNAME:Upcoming Auctions
BEGIN:VEVENT
UID:161042
DTSTAMP:20260423T120000
DTSTART:20260423T120000
DTEND:20260504T180000
SUMMARY:May 4th Container & Attachment Auction - Prairie Farm\, WI
LOCATION:{location}
DESCRIPTION:ADDRESS: 1264 5th Ave\, Prairie Farm\, WI 54762 Online Only A
 uction Ends Monday\, May 4\, 2026 • 6:00PM 10% BUYER'S FEE
URL:https://www.hansenandyoung.com/auctions/detail/bw161042
SEQUENCE:1
END:VEVENT
END:VCALENDAR