BEGIN:VCALENDAR
VERSION:2.0
PRODID:-//ExpressionEngine Easy iCalendar plugin//NONSGML v2.0.0//EN
X-WR-TIMEZONE:America/Chicago
X-WR-CALNAME:Upcoming Auctions
BEGIN:VEVENT
UID:26301
DTSTAMP:20180503T000000
DTSTART:20180503T000000
DTEND:20180503T160000
SUMMARY:T&R Recycling- Chippewa Falls WI
LOCATION:Cty Hwy OO\, Chippewa Falls\, WI 54729\, US
DESCRIPTION:Open House: Tues\, May 1 • 10:00AM-12:00PM Pick Up: Fri\, Ma
 y 4 • 10:00AM-12:00PM
URL:https://www.hansenandyoung.com/auctions/detail/bw26301
SEQUENCE:1
END:VEVENT
END:VCALENDAR