BEGIN:VCALENDAR
VERSION:2.0
PRODID:-//ExpressionEngine Easy iCalendar plugin//NONSGML v2.0.0//EN
X-WR-TIMEZONE:America/Chicago
X-WR-CALNAME:Upcoming Auctions
BEGIN:VEVENT
UID:23640
DTSTAMP:20180320T000000
DTSTART:20180320T000000
DTEND:20180320T130000
SUMMARY:Close Inventory Reduction - Cadott\, WI
LOCATION:23545 170th Ave\, Cadott\, WI 54727\, US
DESCRIPTION:5% BUYER'S FEE Open House: By Appointment Pick Up: By Appoin
 tment
URL:https://www.hansenandyoung.com/auctions/detail/close-invento
 ry-reduction-cadott-wi-bw23640
SEQUENCE:1
END:VEVENT
END:VCALENDAR