BEGIN:VCALENDAR
VERSION:2.0
PRODID:-//ExpressionEngine Easy iCalendar plugin//NONSGML v2.0.1//EN
X-WR-TIMEZONE:America/Chicago
X-WR-CALNAME:Upcoming Auctions
BEGIN:VEVENT
UID:25736
DTSTAMP:20180516T000000
DTSTART:20180516T000000
DTEND:20180516T180000
SUMMARY:MCC Surplus Equipment - Appleton\, WI
LOCATION:2600 N Roemer Rd\, Appleton\, WI 54912\, US
DESCRIPTION:10% BUYER'S FEE Open House: Tues\, May 8 • 10:00AM - 3:00PM
  Pick Up: Fri\, May 18 • 9:00AM - 4:00PM
URL:https://www.hansenandyoung.com/auctions/detail/concrete-cons
 truction-equipment-appleton-wi-bw25736
SEQUENCE:1
END:VEVENT
END:VCALENDAR